BEGIN:VCALENDAR
VERSION:2.0
PRODID:-//Tanela Writes - ECPv6.15.20//NONSGML v1.0//EN
CALSCALE:GREGORIAN
METHOD:PUBLISH
X-ORIGINAL-URL:https://www.tanelawrites.com
X-WR-CALDESC:Events for Tanela Writes
REFRESH-INTERVAL;VALUE=DURATION:PT1H
X-Robots-Tag:noindex
X-PUBLISHED-TTL:PT1H
BEGIN:VTIMEZONE
TZID:America/Indiana/Indianapolis
BEGIN:DAYLIGHT
TZOFFSETFROM:-0500
TZOFFSETTO:-0400
TZNAME:EDT
DTSTART:20250309T070000
END:DAYLIGHT
BEGIN:STANDARD
TZOFFSETFROM:-0400
TZOFFSETTO:-0500
TZNAME:EST
DTSTART:20251102T060000
END:STANDARD
BEGIN:DAYLIGHT
TZOFFSETFROM:-0500
TZOFFSETTO:-0400
TZNAME:EDT
DTSTART:20260308T070000
END:DAYLIGHT
BEGIN:STANDARD
TZOFFSETFROM:-0400
TZOFFSETTO:-0500
TZNAME:EST
DTSTART:20261101T060000
END:STANDARD
BEGIN:DAYLIGHT
TZOFFSETFROM:-0500
TZOFFSETTO:-0400
TZNAME:EDT
DTSTART:20270314T070000
END:DAYLIGHT
BEGIN:STANDARD
TZOFFSETFROM:-0400
TZOFFSETTO:-0500
TZNAME:EST
DTSTART:20271107T060000
END:STANDARD
END:VTIMEZONE
BEGIN:VEVENT
DTSTART;TZID=America/Indiana/Indianapolis:20260214T123000
DTEND;TZID=America/Indiana/Indianapolis:20260214T153000
DTSTAMP:20260424T232232
CREATED:20260110T154153Z
LAST-MODIFIED:20260110T154410Z
UID:1788-1771072200-1771083000@www.tanelawrites.com
SUMMARY:Speed Dating with Romance Books
DESCRIPTION:MEET ME — TANELAWRITESat this Romance Book Event! \nLooking for your next romance read?Come meet me in person and discover the heart behind the stories. \nRomance Book Speed Dating ExperienceMove around the room as authors—including me—have just a few minutes to pitch our books and share what makes each story special. \nFall in love with the books you choosePick your favorites\, take them home\, and get them personally autographed by the authors—including yours truly\, Tanela Hicks. \n✨ Cherrywood Inn: Let Me Love You✨ Cherrywood Inn: A Legacy
URL:https://www.tanelawrites.com/event/speed-dating-with-romance-books/
LOCATION:The Cozy Book Nook\, 1400 East 3rd St.\, Dayton\, OH\, 45403\, United States
CATEGORIES:Book Conversations,Book Signing
ATTACH;FMTTYPE=image/jpeg:https://www.tanelawrites.com/wp-content/uploads/2026/01/Speed-Dating-at-Cozy-Book-Nook-Landscape.jpeg
END:VEVENT
END:VCALENDAR