BEGIN:VCALENDAR
VERSION:2.0
PRODID:-//Tanela Writes - ECPv6.15.20//NONSGML v1.0//EN
CALSCALE:GREGORIAN
METHOD:PUBLISH
X-WR-CALNAME:Tanela Writes
X-ORIGINAL-URL:https://www.tanelawrites.com
X-WR-CALDESC:Events for Tanela Writes
REFRESH-INTERVAL;VALUE=DURATION:PT1H
X-Robots-Tag:noindex
X-PUBLISHED-TTL:PT1H
BEGIN:VTIMEZONE
TZID:America/Indiana/Indianapolis
BEGIN:DAYLIGHT
TZOFFSETFROM:-0500
TZOFFSETTO:-0400
TZNAME:EDT
DTSTART:20250309T070000
END:DAYLIGHT
BEGIN:STANDARD
TZOFFSETFROM:-0400
TZOFFSETTO:-0500
TZNAME:EST
DTSTART:20251102T060000
END:STANDARD
BEGIN:DAYLIGHT
TZOFFSETFROM:-0500
TZOFFSETTO:-0400
TZNAME:EDT
DTSTART:20260308T070000
END:DAYLIGHT
BEGIN:STANDARD
TZOFFSETFROM:-0400
TZOFFSETTO:-0500
TZNAME:EST
DTSTART:20261101T060000
END:STANDARD
BEGIN:DAYLIGHT
TZOFFSETFROM:-0500
TZOFFSETTO:-0400
TZNAME:EDT
DTSTART:20270314T070000
END:DAYLIGHT
BEGIN:STANDARD
TZOFFSETFROM:-0400
TZOFFSETTO:-0500
TZNAME:EST
DTSTART:20271107T060000
END:STANDARD
END:VTIMEZONE
BEGIN:VEVENT
DTSTART;TZID=America/Indiana/Indianapolis:20260709T170000
DTEND;TZID=America/Indiana/Indianapolis:20260709T200000
DTSTAMP:20260424T233513
CREATED:20260419T220000Z
LAST-MODIFIED:20260419T235658Z
UID:1857-1783616400-1783627200@www.tanelawrites.com
SUMMARY:Englewood Market
DESCRIPTION:Looking for your next feel-good romance? I’ve got you covered! Escape to Cherrywood\, no travel required 🌸 \nMeet the author behind your next favorite love story.
URL:https://www.tanelawrites.com/event/englewood-market/
LOCATION:Englewood Market\, 520 W National Rd.\, Englewood\, OH\, 45322\, United States
CATEGORIES:Book Signing
ATTACH;FMTTYPE=image/png:https://www.tanelawrites.com/wp-content/uploads/2026/04/Englewood-Market-Event-Image-July.png
END:VEVENT
END:VCALENDAR